BEGIN:VCALENDAR
VERSION:2.0
PRODID:-//County of Sonoma, CA, USA//NONSGML iCal//EN
METHOD:PUBLISH
BEGIN:VEVENT
UID:x167495@sonomacounty-fo-dss.ingeniuxondemand.com
DTSTAMP:20260422T063247Z
SEQUENCE:0
DTSTART:20260422T100000
DTEND:20260422T113000
TRANSP:OPAQUE
SUMMARY:Voting Accessibility Advisory Committee (VAAC) Meeting
DESCRIPTION:Sonoma County Voting Accessibility Advisory Committee (LAAC) meeting taking place via Zoom on April 22, 2026, at 10:00 a.m. Pacific Time.\n\nMeeting agenda will be posted by April 15, 2026.\n\nTo join the webinar, click on the link provided and, if necessary, enter the appropriate webinar ID and passcode.\n\nApril 22, 2026, at 10:00 a.m.\n\nWebinar ID: 868 9338 3405\n\nPasscode: 476353\n\nhttps://sonomacounty.zoom.us/j/86893383405?pwd=ESGmhKlAsJl1ZUToLYcQFGgNrQhIUk.1\n\nView full event details:\nhttp://sonomacounty-fo-dss.ingeniuxondemand.com/vaac-meeting-2026-04-22
X-ALT-DESC;FMTTYPE=text/html:<p>Sonoma County Voting Accessibility Advisory Committee (LAAC) meeting taking place via Zoom on April 22, 2026, at 10:00 a.m. Pacific Time.</p><div><p>Meeting agenda will be posted by April 15, 2026.</p><p>To join the webinar, click on the link provided and, if necessary, enter the appropriate webinar ID and passcode.</p><p>April 22, 2026, at 10:00 a.m.</p><p>Webinar ID: 868 9338 3405</p><p>Passcode: 476353</p><p><a href="https://sonomacounty.zoom.us/j/86893383405?pwd=ESGmhKlAsJl1ZUToLYcQFGgNrQhIUk.1">https://sonomacounty.zoom.us/j/86893383405?pwd=ESGmhKlAsJl1ZUToLYcQFGgNrQhIUk.1</a></p></div><p>View full event details:<br /><a href="http://sonomacounty-fo-dss.ingeniuxondemand.com/vaac-meeting-2026-04-22">http://sonomacounty-fo-dss.ingeniuxondemand.com/vaac-meeting-2026-04-22</a></p>
DESCRIPTION;ALTREP=:http://sonomacounty-fo-dss.ingeniuxondemand.com/vaac-meeting-2026-04-22
STATUS:CONFIRMED
END:VEVENT
END:VCALENDAR